Workbook
Name DIRESA_AMAZONAS: #REF!
Name MADREDEDIOS: #REF!
Name DIRESA_CALLAO: #REF!
Name DIRESA_LAMBAYEQUE: #REF!
Name PUNO: #REF!
Name reds: #REF!
Name REDSAL: #REF!
Name puntajes: #REF!
Name DIRESA_LIMA: #REF!
Name REDSALPERU: #REF!
Name RISS: #REF!
Name LALIBERTAD: #REF!
Name LORETO: #REF!
Name CUSCO: #REF!
Name modasis: #REF!
Name DIRESA_TUMBES: #REF!
Name AYACUCHO: #REF!
Name MADREDEDIOS: #REF!
Name MOQUEGUA: #REF!
Name LA_LIBERTAD: #REF!
Name RISS: #REF!
Name estandaresniveles: Hoja3!$A$2:$C$15
Name LIMA: #REF!
Name MOQUEGUA: #REF!
Name DIRESA_APURIMAC: #REF!
Name desriss: #REF!
Name AREQUIPA: #REF!
Name AMAZONAS: #REF!
Name DIRESA_AMAZONAS: #REF!
Name TACNA: #REF!
Name TUMBES: #REF!
Name DIRESA_MOQUEGUA: #REF!
Name reds: #REF!
Name MADREDEDIOS: #REF!
Name RISS: #REF!
Name PASCO: #REF!
Name AYACUCHO: #REF!
Name CAJAMARCA: #REF!
Name LORETO: #REF!
Name DIRIS_LIMA_ESTE: #REF!
Name APURIMAC: #REF!
Name DIRESA_MOQUEGUA: #REF!
Name LALIBERTAD: #REF!
Name modasis: #REF!
Name PUNO: #REF!
Name DIRESA_HUANCAVELICA: #REF!
Name APURIMAC: #REF!
Name UCAYALI: #REF!
Name TUMBES: #REF!
Name CALLAO: #REF!
Name DIRESA_SAN_MARTIN: #REF!
Name DIRIS_LIMA_SUR: #REF!
Name modasis: #REF!
Name DIRESA_AYACUCHO: #REF!
Name SANMARTIN: #REF!
Name DIRESA_LIMA: #REF!
Name REDSALPERU: #REF!
Name DIRESA_ANCASH: #REF!
Name PASCO: #REF!
Name HUANUCO: #REF!

Sheet Estandares
B1: Medición de Desempeño de Trabajo del Proyecto
B3: Proyecto: | GV3: Periodo
B5: Componente / Area | D5: Nivel Actual | F5: Valor | H5: Nivel a Alcanzar | J5: Acción Priorizadas | L5: Programación | GT5: Alcance | GV5: Estado de Alcances
L7: Inicio | M7: Finaliza | N7: Días | Q7: Julio | AV7: Agosto | CA7: Setiembre | DE7: Octubre | EJ7: Noviembre | FN7: Diciembre | GV7: Acción 01 | GX7: Acción 02 | GZ7: Acción 03
Q8: 43647 | R8: 43648 | S8: 43649 | T8: 43650 | U8: 43651 | V8: 43652 | W8: 43653 | X8: 43654 | Y8: 43655 | Z8: 43656 | AA8: 43657 | AB8: 43658 | AC8: 43659 | AD8: 43660 | AE8: 43661 | AF8: 43662 | AG8: 43663 | AH8: 43664 | AI8: 43665 | AJ8: 43666 | AK8: 43667 | AL8: 43668 | AM8: 43669 | AN8: 43670 | AO8: 43671 | AP8: 43672 | AQ8: 43673 | AR8: 43674 | AS8: 43675 | AT8: 43676 | AU8: 43677 | AV8: 43678 | AW8: 43679 | AX8: 43680 | AY8: 43681 | AZ8: 43682 | BA8: 43683 | BB8: 43684 | BC8: 43685 | BD8: 43686 | BE8: 43687 | BF8: 43688 | BG8: 43689 | BH8: 43690 | BI8: 43691 | BJ8: 43692 | BK8: 43693 | BL8: 43694 | BM8: 43695 | BN8: 43696 | BO8: 43697 | BP8: 43698 | BQ8: 43699 | BR8: 43700 | BS8: 43701 | BT8: 43702 | BU8: 43703 | BV8: 43704 | BW8: 43705 | BX8: 43706 | BY8: 43707 | BZ8: 43708 | CA8: 43709 | CB8: 43710 | CC8: 43711 | CD8: 43712 | CE8: 43713 | CF8: 43714 | CG8: 43715 | CH8: 43716 | CI8: 43717 | CJ8: 43718 | CK8: 43719 | CL8: 43720 | CM8: 43721 | CN8: 43722 | CO8: 43723 | CP8: 43724 | CQ8: 43725 | CR8: 43726 | CS8: 43727 | CT8: 43728 | CU8: 43729 | CV8: 43730 | CW8: 43731 | CX8: 43732 | CY8: 43733 | CZ8: 43734 | DA8: 43735 | DB8: 43736 | DC8: 43737 | DD8: 43738 | DE8: 43739 | DF8: 43740 | DG8: 43741 | DH8: 43742 | DI8: 43743 | DJ8: 43744 | DK8: 43745 | DL8: 43746 | DM8: 43747 | DN8: 43748 | DO8: 43749 | DP8: 43750 | DQ8: 43751 | DR8: 43752 | DS8: 43753 | DT8: 43754 | DU8: 43755 | DV8: 43756 | DW8: 43757 | DX8: 43758 | DY8: 43759 | DZ8: 43760 | EA8: 43761 | EB8: 43762 | EC8: 43763 | ED8: 43764 | EE8: 43765 | EF8: 43766 | EG8: 43767 | EH8: 43768 | EI8: 43769 | EJ8: 43770 | EK8: 43771 | EL8: 43772 | EM8: 43773 | EN8: 43774 | EO8: 43775 | EP8: 43776 | EQ8: 43777 | ER8: 43778 | ES8: 43779 | ET8: 43780 | EU8: 43781 | EV8: 43782 | EW8: 43783 | EX8: 43784 | EY8: 43785 | EZ8: 43786 | FA8: 43787 | FB8: 43788 | FC8: 43789 | FD8: 43790 | FE8: 43791 | FF8: 43792 | FG8: 43793 | FH8: 43794 | FI8: 43795 | FJ8: 43796 | FK8: 43797 | FL8: 43798 | FM8: 43799 | FN8: 43800 | FO8: 43801 | FP8: 43802 | FQ8: 43803 | FR8: 43804 | FS8: 43805 | FT8: 43806 | FU8: 43807 | FV8: 43808 | FW8: 43809 | FX8: 43810 | FY8: 43811 | FZ8: 43812 | GA8: 43813 | GB8: 43814 | GC8: 43815 | GD8: 43816 | GE8: 43817 | GF8: 43818 | GG8: 43819 | GH8: 43820 | GI8: 43821 | GJ8: 43822 | GK8: 43823 | GL8: 43824 | GM8: 43825 | GN8: 43826 | GO8: 43827 | GP8: 43828 | GQ8: 43829 | GR8: 43830
B10: Componente 01 | D10: Situación Encontrada 07 | F10: =IFERROR(VLOOKUP($D$10,_xlnm.Criteria,2,0),0) -> 0 | H10: =+IF((F10=1),Criterios!C4,IF((F10=2),Criterios!C5,IF((F10=3),Criterios!C6,IF((F10=4),Criterios!C7,IF((F10=5),Criterios!C8,IF((F10=6),Criterios!C9,IF((F10=7),Criterios!C10,IF((F10=8),Criterios!C11,IF((F10=9),Criterios!C12,IF((F10=10),Criterios!C13,"-")))))))))) -> - | J10: 1.- | L10: 43739 | M10: =L10+N10-1 -> 43873 | N10: 135 | O10: =IF(GT10<50%,"Rojo",IF(AND(GT10>=50%,GT10<=80%),"Amarillo","Verde")) -> Amarillo | Q10: =IF(AND(Q$8>=$L10,Q$8<=$M10),$GU10,"") | R10: =IF(AND(R$8>=$L10,R$8<=$M10),$GU10,"") | S10: =IF(AND(S$8>=$L10,S$8<=$M10),$GU10,"") | T10: =IF(AND(T$8>=$L10,T$8<=$M10),$GU10,"") | U10: =IF(AND(U$8>=$L10,U$8<=$M10),$GU10,"") | V10: =IF(AND(V$8>=$L10,V$8<=$M10),$GU10,"") | W10: =IF(AND(W$8>=$L10,W$8<=$M10),$GU10,"") | X10: =IF(AND(X$8>=$L10,X$8<=$M10),$GU10,"") | ... GR10: =IF(AND(GR$8>=$L10,GR$8<=$M10),$GU10,"") -> Amarillo | GT10: 0.5 | GU10: =IF(GT10<50%,"Rojo",IF(AND(GT10>=50%,GT10<=80%),"Amarillo","Verde")) -> Amarillo
J12: 2.- | L12: 43681 | M12: =L12+N12-1 -> 43765 | N12: 85 | O12: =IF(GT12<50%,"Rojo",IF(AND(GT12>=50%,GT12<=80%),"Amarillo","Verde")) -> Rojo | Q12: =IF(AND(Q$8>=$L12,Q$8<=$M12),$GU12,"") | R12: =IF(AND(R$8>=$L12,R$8<=$M12),$GU12,"") | S12: =IF(AND(S$8>=$L12,S$8<=$M12),$GU12,"") | T12: =IF(AND(T$8>=$L12,T$8<=$M12),$GU12,"") | U12: =IF(AND(U$8>=$L12,U$8<=$M12),$GU12,"") | V12: =IF(AND(V$8>=$L12,V$8<=$M12),$GU12,"") | W12: =IF(AND(W$8>=$L12,W$8<=$M12),$GU12,"") | X12: =IF(AND(X$8>=$L12,X$8<=$M12),$GU12,"") | ... GR12: =IF(AND(GR$8>=$L12,GR$8<=$M12),$GU12,"") | GT12: 0.2 | GU12: =IF(GT12<50%,"Rojo",IF(AND(GT12>=50%,GT12<=80%),"Amarillo","Verde")) -> Rojo
J14: 3.- | L14: 43671 | M14: =L14+N14-1 -> 43829 | N14: 159 | O14: =IF(GT14<50%,"Rojo",IF(AND(GT14>=50%,GT14<=80%),"Amarillo","Verde")) -> Verde | Q14: =IF(AND(Q$8>=$L14,Q$8<=$M14),$GU14,"") | R14: =IF(AND(R$8>=$L14,R$8<=$M14),$GU14,"") | S14: =IF(AND(S$8>=$L14,S$8<=$M14),$GU14,"") | T14: =IF(AND(T$8>=$L14,T$8<=$M14),$GU14,"") | U14: =IF(AND(U$8>=$L14,U$8<=$M14),$GU14,"") | V14: =IF(AND(V$8>=$L14,V$8<=$M14),$GU14,"") | W14: =IF(AND(W$8>=$L14,W$8<=$M14),$GU14,"") | X14: =IF(AND(X$8>=$L14,X$8<=$M14),$GU14,"") | ... GR14: =IF(AND(GR$8>=$L14,GR$8<=$M14),$GU14,"") | GT14: 0.89 | GU14: =IF(GT14<50%,"Rojo",IF(AND(GT14>=50%,GT14<=80%),"Amarillo","Verde")) -> Verde
B16: Componente 02 | D16: Situación Encontrada 01 | F16: =IFERROR(VLOOKUP($D$16,_xlnm.Criteria,2,0),0) -> 0 | H16: =+IF((F16=1),Criterios!C4,IF((F16=2),Criterios!C5,IF((F16=3),Criterios!C6,IF((F16=4),Criterios!C7,IF((F16=5),Criterios!C8,IF((F16=6),Criterios!C9,IF((F16=7),Criterios!C10,IF((F16=8),Criterios!C11,IF((F16=9),Criterios!C12,IF((F16=10),Criterios!C13,"-")))))))))) -> - | J16: 1.- | L16: 43718 | M16: =L16+N16-1 -> 43736 | N16: 19 | O16: =IF(GT16<50%,"Rojo",IF(AND(GT16>=50%,GT16<=80%),"Amarillo","Verde")) -> Amarillo | Q16: =IF(AND(Q$8>=$L16,Q$8<=$M16),$GU16,"") | R16: =IF(AND(R$8>=$L16,R$8<=$M16),$GU16,"") | S16: =IF(AND(S$8>=$L16,S$8<=$M16),$GU16,"") | T16: =IF(AND(T$8>=$L16,T$8<=$M16),$GU16,"") | U16: =IF(AND(U$8>=$L16,U$8<=$M16),$GU16,"") | V16: =IF(AND(V$8>=$L16,V$8<=$M16),$GU16,"") | W16: =IF(AND(W$8>=$L16,W$8<=$M16),$GU16,"") | X16: =IF(AND(X$8>=$L16,X$8<=$M16),$GU16,"") | ... GR16: =IF(AND(GR$8>=$L16,GR$8<=$M16),$GU16,"") | GT16: 0.54 | GU16: =IF(GT16<50%,"Rojo",IF(AND(GT16>=50%,GT16<=80%),"Amarillo","Verde")) -> Amarillo
J18: 2.- | L18: 43655 | M18: =L18+N18-1 -> 43739 | N18: 85 | O18: =IF(GT18<50%,"Rojo",IF(AND(GT18>=50%,GT18<=80%),"Amarillo","Verde")) -> Rojo | Q18: =IF(AND(Q$8>=$L18,Q$8<=$M18),$GU18,"") | R18: =IF(AND(R$8>=$L18,R$8<=$M18),$GU18,"") | S18: =IF(AND(S$8>=$L18,S$8<=$M18),$GU18,"") | T18: =IF(AND(T$8>=$L18,T$8<=$M18),$GU18,"") | U18: =IF(AND(U$8>=$L18,U$8<=$M18),$GU18,"") | V18: =IF(AND(V$8>=$L18,V$8<=$M18),$GU18,"") | W18: =IF(AND(W$8>=$L18,W$8<=$M18),$GU18,"") | X18: =IF(AND(X$8>=$L18,X$8<=$M18),$GU18,"") | ... GR18: =IF(AND(GR$8>=$L18,GR$8<=$M18),$GU18,"") | GT18: 0.12 | GU18: =IF(GT18<50%,"Rojo",IF(AND(GT18>=50%,GT18<=80%),"Amarillo","Verde")) -> Rojo
J20: 3.- | L20: 43671 | M20: =L20+N20-1 -> 43765 | N20: 95 | O20: =IF(GT20<50%,"Rojo",IF(AND(GT20>=50%,GT20<=80%),"Amarillo","Verde")) -> Verde | Q20: =IF(AND(Q$8>=$L20,Q$8<=$M20),$GU20,"") | R20: =IF(AND(R$8>=$L20,R$8<=$M20),$GU20,"") | S20: =IF(AND(S$8>=$L20,S$8<=$M20),$GU20,"") | T20: =IF(AND(T$8>=$L20,T$8<=$M20),$GU20,"") | U20: =IF(AND(U$8>=$L20,U$8<=$M20),$GU20,"") | V20: =IF(AND(V$8>=$L20,V$8<=$M20),$GU20,"") | W20: =IF(AND(W$8>=$L20,W$8<=$M20),$GU20,"") | X20: =IF(AND(X$8>=$L20,X$8<=$M20),$GU20,"") | ... GR20: =IF(AND(GR$8>=$L20,GR$8<=$M20),$GU20,"") | GT20: 0.88 | GU20: =IF(GT20<50%,"Rojo",IF(AND(GT20>=50%,GT20<=80%),"Amarillo","Verde")) -> Verde
B22: Componente 03 | D22: Situación Encontrada 07 | F22: =IFERROR(VLOOKUP($D$22,_xlnm.Criteria,2,0),0) -> 0 | H22: =+IF((F22=1),Criterios!C4,IF((F22=2),Criterios!C5,IF((F22=3),Criterios!C6,IF((F22=4),Criterios!C7,IF((F22=5),Criterios!C8,IF((F22=6),Criterios!C9,IF((F22=7),Criterios!C10,IF((F22=8),Criterios!C11,IF((F22=9),Criterios!C12,IF((F22=10),Criterios!C13,"-")))))))))) -> - | J22: 1.- | L22: 43718 | M22: =L22+N22-1 -> 43736 | N22: 19 | O22: =IF(GT22<50%,"Rojo",IF(AND(GT22>=50%,GT22<=80%),"Amarillo","Verde")) -> Amarillo | Q22: =IF(AND(Q$8>=$L22,Q$8<=$M22),$GU22,"") | R22: =IF(AND(R$8>=$L22,R$8<=$M22),$GU22,"") | S22: =IF(AND(S$8>=$L22,S$8<=$M22),$GU22,"") | T22: =IF(AND(T$8>=$L22,T$8<=$M22),$GU22,"") | U22: =IF(AND(U$8>=$L22,U$8<=$M22),$GU22,"") | V22: =IF(AND(V$8>=$L22,V$8<=$M22),$GU22,"") | W22: =IF(AND(W$8>=$L22,W$8<=$M22),$GU22,"") | X22: =IF(AND(X$8>=$L22,X$8<=$M22),$GU22,"") | ... GR22: =IF(AND(GR$8>=$L22,GR$8<=$M22),$GU22,"") | GT22: 0.66 | GU22: =IF(GT22<50%,"Rojo",IF(AND(GT22>=50%,GT22<=80%),"Amarillo","Verde")) -> Amarillo
J24: 2.- | L24: 43655 | M24: =L24+N24-1 -> 43739 | N24: 85 | O24: =IF(GT24<50%,"Rojo",IF(AND(GT24>=50%,GT24<=80%),"Amarillo","Verde")) -> Amarillo | Q24: =IF(AND(Q$8>=$L24,Q$8<=$M24),$GU24,"") | R24: =IF(AND(R$8>=$L24,R$8<=$M24),$GU24,"") | S24: =IF(AND(S$8>=$L24,S$8<=$M24),$GU24,"") | T24: =IF(AND(T$8>=$L24,T$8<=$M24),$GU24,"") | U24: =IF(AND(U$8>=$L24,U$8<=$M24),$GU24,"") | V24: =IF(AND(V$8>=$L24,V$8<=$M24),$GU24,"") | W24: =IF(AND(W$8>=$L24,W$8<=$M24),$GU24,"") | X24: =IF(AND(X$8>=$L24,X$8<=$M24),$GU24,"") | ... GR24: =IF(AND(GR$8>=$L24,GR$8<=$M24),$GU24,"") | GT24: 0.62 | GU24: =IF(GT24<50%,"Rojo",IF(AND(GT24>=50%,GT24<=80%),"Amarillo","Verde")) -> Amarillo
J26: 3.- | L26: 43671 | M26: =L26+N26-1 -> 43765 | N26: 95 | O26: =IF(GT26<50%,"Rojo",IF(AND(GT26>=50%,GT26<=80%),"Amarillo","Verde")) -> Rojo | Q26: =IF(AND(Q$8>=$L26,Q$8<=$M26),$GU26,"") | R26: =IF(AND(R$8>=$L26,R$8<=$M26),$GU26,"") | S26: =IF(AND(S$8>=$L26,S$8<=$M26),$GU26,"") | T26: =IF(AND(T$8>=$L26,T$8<=$M26),$GU26,"") | U26: =IF(AND(U$8>=$L26,U$8<=$M26),$GU26,"") | V26: =IF(AND(V$8>=$L26,V$8<=$M26),$GU26,"") | W26: =IF(AND(W$8>=$L26,W$8<=$M26),$GU26,"") | X26: =IF(AND(X$8>=$L26,X$8<=$M26),$GU26,"") | ... GR26: =IF(AND(GR$8>=$L26,GR$8<=$M26),$GU26,"") | GT26: 0.14 | GU26: =IF(GT26<50%,"Rojo",IF(AND(GT26>=50%,GT26<=80%),"Amarillo","Verde")) -> Rojo
B28: Componente 04 | D28: Situación Encontrada 10 | F28: =IFERROR(VLOOKUP($D$28,_xlnm.Criteria,2,0),0) -> 0 | H28: =+IF((F28=1),Criterios!C4,IF((F28=2),Criterios!C5,IF((F28=3),Criterios!C6,IF((F28=4),Criterios!C7,IF((F28=5),Criterios!C8,IF((F28=6),Criterios!C9,IF((F28=7),Criterios!C10,IF((F28=8),Criterios!C11,IF((F28=9),Criterios!C12,IF((F28=10),Criterios!C13,"-")))))))))) -> - | J28: 1.- | L28: 43718 | M28: =L28+N28-1 -> 43736 | N28: 19 | O28: =IF(GT28<50%,"Rojo",IF(AND(GT28>=50%,GT28<=80%),"Amarillo","Verde")) -> Rojo | Q28: =IF(AND(Q$8>=$L28,Q$8<=$M28),$GU28,"") | R28: =IF(AND(R$8>=$L28,R$8<=$M28),$GU28,"") | S28: =IF(AND(S$8>=$L28,S$8<=$M28),$GU28,"") | T28: =IF(AND(T$8>=$L28,T$8<=$M28),$GU28,"") | U28: =IF(AND(U$8>=$L28,U$8<=$M28),$GU28,"") | V28: =IF(AND(V$8>=$L28,V$8<=$M28),$GU28,"") | W28: =IF(AND(W$8>=$L28,W$8<=$M28),$GU28,"") | X28: =IF(AND(X$8>=$L28,X$8<=$M28),$GU28,"") | ... GR28: =IF(AND(GR$8>=$L28,GR$8<=$M28),$GU28,"") | GT28: 0.25 | GU28: =IF(GT28<50%,"Rojo",IF(AND(GT28>=50%,GT28<=80%),"Amarillo","Verde")) -> Rojo
J30: 2.- | L30: 43655 | M30: =L30+N30-1 -> 43739 | N30: 85 | O30: =IF(GT30<50%,"Rojo",IF(AND(GT30>=50%,GT30<=80%),"Amarillo","Verde")) -> Rojo | Q30: =IF(AND(Q$8>=$L30,Q$8<=$M30),$GU30,"") | R30: =IF(AND(R$8>=$L30,R$8<=$M30),$GU30,"") | S30: =IF(AND(S$8>=$L30,S$8<=$M30),$GU30,"") | T30: =IF(AND(T$8>=$L30,T$8<=$M30),$GU30,"") | U30: =IF(AND(U$8>=$L30,U$8<=$M30),$GU30,"") | V30: =IF(AND(V$8>=$L30,V$8<=$M30),$GU30,"") | W30: =IF(AND(W$8>=$L30,W$8<=$M30),$GU30,"") | X30: =IF(AND(X$8>=$L30,X$8<=$M30),$GU30,"") | ... GR30: =IF(AND(GR$8>=$L30,GR$8<=$M30),$GU30,"") | GT30: 0.45 | GU30: =IF(GT30<50%,"Rojo",IF(AND(GT30>=50%,GT30<=80%),"Amarillo","Verde")) -> Rojo
J32: 3.- | L32: 43671 | M32: =L32+N32-1 -> 43765 | N32: 95 | O32: =IF(GT32<50%,"Rojo",IF(AND(GT32>=50%,GT32<=80%),"Amarillo","Verde")) -> Verde | Q32: =IF(AND(Q$8>=$L32,Q$8<=$M32),$GU32,"") | R32: =IF(AND(R$8>=$L32,R$8<=$M32),$GU32,"") | S32: =IF(AND(S$8>=$L32,S$8<=$M32),$GU32,"") | T32: =IF(AND(T$8>=$L32,T$8<=$M32),$GU32,"") | U32: =IF(AND(U$8>=$L32,U$8<=$M32),$GU32,"") | V32: =IF(AND(V$8>=$L32,V$8<=$M32),$GU32,"") | W32: =IF(AND(W$8>=$L32,W$8<=$M32),$GU32,"") | X32: =IF(AND(X$8>=$L32,X$8<=$M32),$GU32,"") | ... GR32: =IF(AND(GR$8>=$L32,GR$8<=$M32),$GU32,"") | GT32: 0.88 | GU32: =IF(GT32<50%,"Rojo",IF(AND(GT32>=50%,GT32<=80%),"Amarillo","Verde")) -> Verde
B34: Componente 05 | D34: Situación Encontrada 05 | F34: =IFERROR(VLOOKUP($D$34,_xlnm.Criteria,2,0),0) -> 0 | H34: =+IF((F34=1),Criterios!C4,IF((F34=2),Criterios!C5,IF((F34=3),Criterios!C6,IF((F34=4),Criterios!C7,IF((F34=5),Criterios!C8,IF((F34=6),Criterios!C9,IF((F34=7),Criterios!C10,IF((F34=8),Criterios!C11,IF((F34=9),Criterios!C12,IF((F34=10),Criterios!C13,"-")))))))))) -> - | J34: 1.- | L34: 43649 | M34: =L34+N34-1 -> 43804 | N34: 156 | O34: =IF(GT34<50%,"Rojo",IF(AND(GT34>=50%,GT34<=80%),"Amarillo","Verde")) -> Amarillo | Q34: =IF(AND(Q$8>=$L34,Q$8<=$M34),$GU34,"") | R34: =IF(AND(R$8>=$L34,R$8<=$M34),$GU34,"") | S34: =IF(AND(S$8>=$L34,S$8<=$M34),$GU34,"") -> Amarillo | T34: =IF(AND(T$8>=$L34,T$8<=$M34),$GU34,"") -> Amarillo | U34: =IF(AND(U$8>=$L34,U$8<=$M34),$GU34,"") -> Amarillo | V34: =IF(AND(V$8>=$L34,V$8<=$M34),$GU34,"") -> Amarillo | W34: =IF(AND(W$8>=$L34,W$8<=$M34),$GU34,"") -> Amarillo | X34: =IF(AND(X$8>=$L34,X$8<=$M34),$GU34,"") -> Amarillo | ... GR34: =IF(AND(GR$8>=$L34,GR$8<=$M34),$GU34,"") | GT34: 0.63 | GU34: =IF(GT34<50%,"Rojo",IF(AND(GT34>=50%,GT34<=80%),"Amarillo","Verde")) -> Amarillo
J36: 2.- | L36: 43718 | M36: =L36+N36-1 -> 43801 | N36: 84 | O36: =IF(GT36<50%,"Rojo",IF(AND(GT36>=50%,GT36<=80%),"Amarillo","Verde")) -> Verde | Q36: =IF(AND(Q$8>=$L36,Q$8<=$M36),$GU36,"") | R36: =IF(AND(R$8>=$L36,R$8<=$M36),$GU36,"") | S36: =IF(AND(S$8>=$L36,S$8<=$M36),$GU36,"") | T36: =IF(AND(T$8>=$L36,T$8<=$M36),$GU36,"") | U36: =IF(AND(U$8>=$L36,U$8<=$M36),$GU36,"") | V36: =IF(AND(V$8>=$L36,V$8<=$M36),$GU36,"") | W36: =IF(AND(W$8>=$L36,W$8<=$M36),$GU36,"") | X36: =IF(AND(X$8>=$L36,X$8<=$M36),$GU36,"") | ... GR36: =IF(AND(GR$8>=$L36,GR$8<=$M36),$GU36,"") | GT36: 0.82 | GU36: =IF(GT36<50%,"Rojo",IF(AND(GT36>=50%,GT36<=80%),"Amarillo","Verde")) -> Verde
J38: 3.- | L38: 43665 | M38: =L38+N38-1 -> 43793 | N38: 129 | O38: =IF(GT38<50%,"Rojo",IF(AND(GT38>=50%,GT38<=80%),"Amarillo","Verde")) -> Amarillo | Q38: =IF(AND(Q$8>=$L38,Q$8<=$M38),$GU38,"") | R38: =IF(AND(R$8>=$L38,R$8<=$M38),$GU38,"") | S38: =IF(AND(S$8>=$L38,S$8<=$M38),$GU38,"") | T38: =IF(AND(T$8>=$L38,T$8<=$M38),$GU38,"") | U38: =IF(AND(U$8>=$L38,U$8<=$M38),$GU38,"") | V38: =IF(AND(V$8>=$L38,V$8<=$M38),$GU38,"") | W38: =IF(AND(W$8>=$L38,W$8<=$M38),$GU38,"") | X38: =IF(AND(X$8>=$L38,X$8<=$M38),$GU38,"") | ... GR38: =IF(AND(GR$8>=$L38,GR$8<=$M38),$GU38,"") | GT38: 0.66 | GU38: =IF(GT38<50%,"Rojo",IF(AND(GT38>=50%,GT38<=80%),"Amarillo","Verde")) -> Amarillo

Sheet Criterios
A2: Estandares
A3: Situación Encontrada | B3: Puntaje | C3: Estandar a Alcanzar | D3: Atributos necesarios para el estandar | E3: Ámbito
A4: Situación Encontrada 01 | B4: 1 | C4: Pasar a Estandar 02
A5: Situación Encontrada 02 | B5: 2 | C5: Pasar a Estandar 03
A6: Situación Encontrada 03 | B6: 3 | C6: Pasar a Estandar 04
A7: Situación Encontrada 04 | B7: 4 | C7: Pasar a Estandar 05
A8: Situación Encontrada 05 | B8: 5 | C8: Pasar a Estandar 06
A9: Situación Encontrada 06 | B9: 6 | C9: Pasar a Estandar 07
A10: Situación Encontrada 07 | B10: 7 | C10: Pasar a Estandar 08
A11: Situación Encontrada 08 | B11: 8 | C11: Pasar a Estandar 09
A12: Situación Encontrada 09 | B12: 9 | C12: Pasar a Estandar 10
A13: Situación Encontrada 10 | B13: 10 | C13: Meta Alcanzada
A35: susalud | B35: ipress | C35: renipress | D35: opciones avanzada
D36: por nombre
D37: autoridad sanitaria

Sheet Calculo
A3: Categoria | B3: Porcentaje
A4: Rojo | B4: 0.3
A5: Amarillo | B5: 0.3
A6: Verde | B6: 0.3
A7: Blanco | B7: 0.6
A10: V1 | B10: =Estandares!GT10 -> 0.5 | C10: 0.04 | D10: =175%-SUM(B10:C10) -> 1.21
A11: MC1 | B11: =Estandares!GT12 -> 0.2 | C11: =1-B11 -> 0.8 | D11: 1
A12: V1 | B12: =Estandares!GT14 -> 0.89 | C12: 0.04 | D12: =2.05-SUM(B12:C12) -> 1.12
A14: V2 | B14: =Estandares!GT16 -> 0.54 | C14: 0.04 | D14: =175%-SUM(B14:C14) -> 1.17
A15: MC2 | B15: =Estandares!GT18 -> 0.12 | C15: =1-B15 -> 0.88 | D15: 1
A16: V2 | B16: =Estandares!GT20 -> 0.88 | C16: 0.04 | D16: =2.05-SUM(B16:C16) -> 1.13
A18: V3 | B18: =Estandares!GT22 -> 0.66 | C18: 0.04 | D18: =175%-SUM(B18:C18) -> 1.05
A19: MC3 | B19: =Estandares!GT24 -> 0.62 | C19: =1-B19 -> 0.38 | D19: 1
A20: V3 | B20: =Estandares!GT26 -> 0.14 | C20: 0.04 | D20: =2.05-SUM(B20:C20) -> 1.87
A22: V4 | B22: =Estandares!GT28 -> 0.25 | C22: 0.04 | D22: =175%-SUM(B22:C22) -> 1.46
A23: MC4 | B23: =Estandares!GT30 -> 0.45 | C23: =1-B23 -> 0.55 | D23: 1
A24: V4 | B24: =Estandares!GT32 -> 0.88 | C24: 0.04 | D24: =2.05-SUM(B24:C24) -> 1.13
A26: V4 | B26: =Estandares!GT34 -> 0.63 | C26: 0.04 | D26: =175%-SUM(B26:C26) -> 1.08
A27: MC4 | B27: =Estandares!GT36 -> 0.82 | C27: =1-B27 -> 0.18 | D27: 1
A28: V4 | B28: =Estandares!GT38 -> 0.66 | C28: 0.04 | D28: =2.05-SUM(B28:C28) -> 1.35

Sheet Estandares Modelo
B3: Proyecto: | GV3: Periodo
B5: Componente / Area | D5: Nivel Actual | F5: Valor | H5: Nivel a Alcanzar | J5: Acción Priorizadas | L5: Programación | GT5: Alcance | GV5: Estado de Alcances
L7: Inicio | M7: Finaliza | N7: Días | Q7: Julio | AV7: Agosto | CA7: Setiembre | DE7: Octubre | EJ7: Noviembre | FN7: Diciembre | GV7: Acción 01 | GX7: Acción 02 | GZ7: Acción 03
Q8: 43647 | R8: 43648 | S8: 43649 | T8: 43650 | U8: 43651 | V8: 43652 | W8: 43653 | X8: 43654 | Y8: 43655 | Z8: 43656 | AA8: 43657 | AB8: 43658 | AC8: 43659 | AD8: 43660 | AE8: 43661 | AF8: 43662 | AG8: 43663 | AH8: 43664 | AI8: 43665 | AJ8: 43666 | AK8: 43667 | AL8: 43668 | AM8: 43669 | AN8: 43670 | AO8: 43671 | AP8: 43672 | AQ8: 43673 | AR8: 43674 | AS8: 43675 | AT8: 43676 | AU8: 43677 | AV8: 43678 | AW8: 43679 | AX8: 43680 | AY8: 43681 | AZ8: 43682 | BA8: 43683 | BB8: 43684 | BC8: 43685 | BD8: 43686 | BE8: 43687 | BF8: 43688 | BG8: 43689 | BH8: 43690 | BI8: 43691 | BJ8: 43692 | BK8: 43693 | BL8: 43694 | BM8: 43695 | BN8: 43696 | BO8: 43697 | BP8: 43698 | BQ8: 43699 | BR8: 43700 | BS8: 43701 | BT8: 43702 | BU8: 43703 | BV8: 43704 | BW8: 43705 | BX8: 43706 | BY8: 43707 | BZ8: 43708 | CA8: 43709 | CB8: 43710 | CC8: 43711 | CD8: 43712 | CE8: 43713 | CF8: 43714 | CG8: 43715 | CH8: 43716 | CI8: 43717 | CJ8: 43718 | CK8: 43719 | CL8: 43720 | CM8: 43721 | CN8: 43722 | CO8: 43723 | CP8: 43724 | CQ8: 43725 | CR8: 43726 | CS8: 43727 | CT8: 43728 | CU8: 43729 | CV8: 43730 | CW8: 43731 | CX8: 43732 | CY8: 43733 | CZ8: 43734 | DA8: 43735 | DB8: 43736 | DC8: 43737 | DD8: 43738 | DE8: 43739 | DF8: 43740 | DG8: 43741 | DH8: 43742 | DI8: 43743 | DJ8: 43744 | DK8: 43745 | DL8: 43746 | DM8: 43747 | DN8: 43748 | DO8: 43749 | DP8: 43750 | DQ8: 43751 | DR8: 43752 | DS8: 43753 | DT8: 43754 | DU8: 43755 | DV8: 43756 | DW8: 43757 | DX8: 43758 | DY8: 43759 | DZ8: 43760 | EA8: 43761 | EB8: 43762 | EC8: 43763 | ED8: 43764 | EE8: 43765 | EF8: 43766 | EG8: 43767 | EH8: 43768 | EI8: 43769 | EJ8: 43770 | EK8: 43771 | EL8: 43772 | EM8: 43773 | EN8: 43774 | EO8: 43775 | EP8: 43776 | EQ8: 43777 | ER8: 43778 | ES8: 43779 | ET8: 43780 | EU8: 43781 | EV8: 43782 | EW8: 43783 | EX8: 43784 | EY8: 43785 | EZ8: 43786 | FA8: 43787 | FB8: 43788 | FC8: 43789 | FD8: 43790 | FE8: 43791 | FF8: 43792 | FG8: 43793 | FH8: 43794 | FI8: 43795 | FJ8: 43796 | FK8: 43797 | FL8: 43798 | FM8: 43799 | FN8: 43800 | FO8: 43801 | FP8: 43802 | FQ8: 43803 | FR8: 43804 | FS8: 43805 | FT8: 43806 | FU8: 43807 | FV8: 43808 | FW8: 43809 | FX8: 43810 | FY8: 43811 | FZ8: 43812 | GA8: 43813 | GB8: 43814 | GC8: 43815 | GD8: 43816 | GE8: 43817 | GF8: 43818 | GG8: 43819 | GH8: 43820 | GI8: 43821 | GJ8: 43822 | GK8: 43823 | GL8: 43824 | GM8: 43825 | GN8: 43826 | GO8: 43827 | GP8: 43828 | GQ8: 43829 | GR8: 43830
B10: Componente 01 | D10: Situación Encontrada 06 | F10: =IFERROR(VLOOKUP($D$10,_xlnm.Criteria,2,0),0) -> 0 | H10: =+IF((F10=1),Criterios!C4,IF((F10=2),Criterios!C5,IF((F10=3),Criterios!C6,IF((F10=4),Criterios!C7,IF((F10=5),Criterios!C8,IF((F10=6),Criterios!C9,IF((F10=7),Criterios!C10,IF((F10=8),Criterios!C11,IF((F10=9),Criterios!C12,IF((F10=10),Criterios!C13,"-")))))))))) -> - | J10: =VLOOKUP($F$10,estandaresniveles,2,0) -> 1.- Tareas a | L10: 43647 | M10: =L10+N10-1 -> 43736 | N10: 90 | O10: =IF(GT10<50%,"Rojo",IF(AND(GT10>=50%,GT10<=80%),"Amarillo","Verde")) -> Rojo | Q10: =IF(AND(Q$8>=$L10,Q$8<=$M10),$GU10,"") -> Rojo | R10: =IF(AND(R$8>=$L10,R$8<=$M10),$GU10,"") -> Rojo | S10: =IF(AND(S$8>=$L10,S$8<=$M10),$GU10,"") -> Rojo | T10: =IF(AND(T$8>=$L10,T$8<=$M10),$GU10,"") -> Rojo | U10: =IF(AND(U$8>=$L10,U$8<=$M10),$GU10,"") -> Rojo | V10: =IF(AND(V$8>=$L10,V$8<=$M10),$GU10,"") -> Rojo | W10: =IF(AND(W$8>=$L10,W$8<=$M10),$GU10,"") -> Rojo | X10: =IF(AND(X$8>=$L10,X$8<=$M10),$GU10,"") -> Rojo | ... GR10: =IF(AND(GR$8>=$L10,GR$8<=$M10),$GU10,"") | GT10: =VLOOKUP($F$10,estandaresniveles,3,0) -> 0.33 | GU10: =IF(GT10<50%,"Rojo",IF(AND(GT10>=50%,GT10<=80%),"Amarillo","Verde")) -> Rojo
J12: =VLOOKUP($F$10,estandaresniveles,2,0) -> 1.- Tareas a | L12: 43681 | M12: =L12+N12-1 -> 43765 | N12: 85 | O12: =IF(GT12<50%,"Rojo",IF(AND(GT12>=50%,GT12<=80%),"Amarillo","Verde")) -> Rojo | Q12: =IF(AND(Q$8>=$L12,Q$8<=$M12),$GU12,"") | R12: =IF(AND(R$8>=$L12,R$8<=$M12),$GU12,"") | S12: =IF(AND(S$8>=$L12,S$8<=$M12),$GU12,"") | T12: =IF(AND(T$8>=$L12,T$8<=$M12),$GU12,"") | U12: =IF(AND(U$8>=$L12,U$8<=$M12),$GU12,"") | V12: =IF(AND(V$8>=$L12,V$8<=$M12),$GU12,"") | W12: =IF(AND(W$8>=$L12,W$8<=$M12),$GU12,"") | X12: =IF(AND(X$8>=$L12,X$8<=$M12),$GU12,"") | ... GR12: =IF(AND(GR$8>=$L12,GR$8<=$M12),$GU12,"") | GT12: =VLOOKUP($F$10,estandaresniveles,3,0) -> 0.33 | GU12: =IF(GT12<50%,"Rojo",IF(AND(GT12>=50%,GT12<=80%),"Amarillo","Verde")) -> Rojo
J14: =VLOOKUP($F$10,estandaresniveles,2,0) -> 1.- Tareas a | L14: 43671 | M14: =L14+N14-1 -> 43829 | N14: 159 | O14: =IF(GT14<50%,"Rojo",IF(AND(GT14>=50%,GT14<=80%),"Amarillo","Verde")) -> Rojo | Q14: =IF(AND(Q$8>=$L14,Q$8<=$M14),$GU14,"") | R14: =IF(AND(R$8>=$L14,R$8<=$M14),$GU14,"") | S14: =IF(AND(S$8>=$L14,S$8<=$M14),$GU14,"") | T14: =IF(AND(T$8>=$L14,T$8<=$M14),$GU14,"") | U14: =IF(AND(U$8>=$L14,U$8<=$M14),$GU14,"") | V14: =IF(AND(V$8>=$L14,V$8<=$M14),$GU14,"") | W14: =IF(AND(W$8>=$L14,W$8<=$M14),$GU14,"") | X14: =IF(AND(X$8>=$L14,X$8<=$M14),$GU14,"") | ... GR14: =IF(AND(GR$8>=$L14,GR$8<=$M14),$GU14,"") | GT14: =VLOOKUP($F$10,estandaresniveles,3,0) -> 0.33 | GU14: =IF(GT14<50%,"Rojo",IF(AND(GT14>=50%,GT14<=80%),"Amarillo","Verde")) -> Rojo
B16: Componente 02 | D16: Situación Encontrada 03 | F16: =IFERROR(VLOOKUP($D$16,_xlnm.Criteria,2,0),0) -> 0 | H16: =+IF((F16=1),Criterios!C4,IF((F16=2),Criterios!C5,IF((F16=3),Criterios!C6,IF((F16=4),Criterios!C7,IF((F16=5),Criterios!C8,IF((F16=6),Criterios!C9,IF((F16=7),Criterios!C10,IF((F16=8),Criterios!C11,IF((F16=9),Criterios!C12,IF((F16=10),Criterios!C13,"-")))))))))) -> - | J16: =VLOOKUP($F$16,estandaresniveles,2,0) -> 1.- Tareas a | L16: 43718 | M16: =L16+N16-1 -> 43736 | N16: 19 | O16: =IF(GT16<50%,"Rojo",IF(AND(GT16>=50%,GT16<=80%),"Amarillo","Verde")) -> Rojo | Q16: =IF(AND(Q$8>=$L16,Q$8<=$M16),$GU16,"") | R16: =IF(AND(R$8>=$L16,R$8<=$M16),$GU16,"") | S16: =IF(AND(S$8>=$L16,S$8<=$M16),$GU16,"") | T16: =IF(AND(T$8>=$L16,T$8<=$M16),$GU16,"") | U16: =IF(AND(U$8>=$L16,U$8<=$M16),$GU16,"") | V16: =IF(AND(V$8>=$L16,V$8<=$M16),$GU16,"") | W16: =IF(AND(W$8>=$L16,W$8<=$M16),$GU16,"") | X16: =IF(AND(X$8>=$L16,X$8<=$M16),$GU16,"") | ... GR16: =IF(AND(GR$8>=$L16,GR$8<=$M16),$GU16,"") | GT16: =VLOOKUP($F$16,estandaresniveles,3,0) -> 0.33 | GU16: =IF(GT16<50%,"Rojo",IF(AND(GT16>=50%,GT16<=80%),"Amarillo","Verde")) -> Rojo
J18: =VLOOKUP($F$16,estandaresniveles,2,0) -> 1.- Tareas a | L18: 43655 | M18: =L18+N18-1 -> 43739 | N18: 85 | O18: =IF(GT18<50%,"Rojo",IF(AND(GT18>=50%,GT18<=80%),"Amarillo","Verde")) -> Rojo | Q18: =IF(AND(Q$8>=$L18,Q$8<=$M18),$GU18,"") | R18: =IF(AND(R$8>=$L18,R$8<=$M18),$GU18,"") | S18: =IF(AND(S$8>=$L18,S$8<=$M18),$GU18,"") | T18: =IF(AND(T$8>=$L18,T$8<=$M18),$GU18,"") | U18: =IF(AND(U$8>=$L18,U$8<=$M18),$GU18,"") | V18: =IF(AND(V$8>=$L18,V$8<=$M18),$GU18,"") | W18: =IF(AND(W$8>=$L18,W$8<=$M18),$GU18,"") | X18: =IF(AND(X$8>=$L18,X$8<=$M18),$GU18,"") | ... GR18: =IF(AND(GR$8>=$L18,GR$8<=$M18),$GU18,"") | GT18: =VLOOKUP($F$16,estandaresniveles,3,0) -> 0.33 | GU18: =IF(GT18<50%,"Rojo",IF(AND(GT18>=50%,GT18<=80%),"Amarillo","Verde")) -> Rojo
J20: =VLOOKUP($F$16,estandaresniveles,2,0) -> 1.- Tareas a | L20: 43671 | M20: =L20+N20-1 -> 43765 | N20: 95 | O20: =IF(GT20<50%,"Rojo",IF(AND(GT20>=50%,GT20<=80%),"Amarillo","Verde")) -> Rojo | Q20: =IF(AND(Q$8>=$L20,Q$8<=$M20),$GU20,"") | R20: =IF(AND(R$8>=$L20,R$8<=$M20),$GU20,"") | S20: =IF(AND(S$8>=$L20,S$8<=$M20),$GU20,"") | T20: =IF(AND(T$8>=$L20,T$8<=$M20),$GU20,"") | U20: =IF(AND(U$8>=$L20,U$8<=$M20),$GU20,"") | V20: =IF(AND(V$8>=$L20,V$8<=$M20),$GU20,"") | W20: =IF(AND(W$8>=$L20,W$8<=$M20),$GU20,"") | X20: =IF(AND(X$8>=$L20,X$8<=$M20),$GU20,"") | ... GR20: =IF(AND(GR$8>=$L20,GR$8<=$M20),$GU20,"") | GT20: =VLOOKUP($F$16,estandaresniveles,3,0) -> 0.33 | GU20: =IF(GT20<50%,"Rojo",IF(AND(GT20>=50%,GT20<=80%),"Amarillo","Verde")) -> Rojo
B22: Componente 03 | D22: Situación Encontrada 09 | F22: =IFERROR(VLOOKUP($D$22,_xlnm.Criteria,2,0),0) -> 0 | H22: =+IF((F22=1),Criterios!C4,IF((F22=2),Criterios!C5,IF((F22=3),Criterios!C6,IF((F22=4),Criterios!C7,IF((F22=5),Criterios!C8,IF((F22=6),Criterios!C9,IF((F22=7),Criterios!C10,IF((F22=8),Criterios!C11,IF((F22=9),Criterios!C12,IF((F22=10),Criterios!C13,"-")))))))))) -> - | J22: =VLOOKUP($F$22,estandaresniveles,2,0) -> 1.- Tareas a | L22: 43718 | M22: =L22+N22-1 -> 43736 | N22: 19 | O22: =IF(GT22<50%,"Rojo",IF(AND(GT22>=50%,GT22<=80%),"Amarillo","Verde")) -> Rojo | Q22: =IF(AND(Q$8>=$L22,Q$8<=$M22),$GU22,"") | R22: =IF(AND(R$8>=$L22,R$8<=$M22),$GU22,"") | S22: =IF(AND(S$8>=$L22,S$8<=$M22),$GU22,"") | T22: =IF(AND(T$8>=$L22,T$8<=$M22),$GU22,"") | U22: =IF(AND(U$8>=$L22,U$8<=$M22),$GU22,"") | V22: =IF(AND(V$8>=$L22,V$8<=$M22),$GU22,"") | W22: =IF(AND(W$8>=$L22,W$8<=$M22),$GU22,"") | X22: =IF(AND(X$8>=$L22,X$8<=$M22),$GU22,"") | ... GR22: =IF(AND(GR$8>=$L22,GR$8<=$M22),$GU22,"") | GT22: =VLOOKUP($F$22,estandaresniveles,3,0) -> 0.33 | GU22: =IF(GT22<50%,"Rojo",IF(AND(GT22>=50%,GT22<=80%),"Amarillo","Verde")) -> Rojo
J24: =VLOOKUP($F$22,estandaresniveles,2,0) -> 1.- Tareas a | L24: 43655 | M24: =L24+N24-1 -> 43739 | N24: 85 | O24: =IF(GT24<50%,"Rojo",IF(AND(GT24>=50%,GT24<=80%),"Amarillo","Verde")) -> Rojo | Q24: =IF(AND(Q$8>=$L24,Q$8<=$M24),$GU24,"") | R24: =IF(AND(R$8>=$L24,R$8<=$M24),$GU24,"") | S24: =IF(AND(S$8>=$L24,S$8<=$M24),$GU24,"") | T24: =IF(AND(T$8>=$L24,T$8<=$M24),$GU24,"") | U24: =IF(AND(U$8>=$L24,U$8<=$M24),$GU24,"") | V24: =IF(AND(V$8>=$L24,V$8<=$M24),$GU24,"") | W24: =IF(AND(W$8>=$L24,W$8<=$M24),$GU24,"") | X24: =IF(AND(X$8>=$L24,X$8<=$M24),$GU24,"") | ... GR24: =IF(AND(GR$8>=$L24,GR$8<=$M24),$GU24,"") | GT24: =VLOOKUP($F$22,estandaresniveles,3,0) -> 0.33 | GU24: =IF(GT24<50%,"Rojo",IF(AND(GT24>=50%,GT24<=80%),"Amarillo","Verde")) -> Rojo
J26: =VLOOKUP($F$22,estandaresniveles,2,0) -> 1.- Tareas a | L26: 43671 | M26: =L26+N26-1 -> 43765 | N26: 95 | O26: =IF(GT26<50%,"Rojo",IF(AND(GT26>=50%,GT26<=80%),"Amarillo","Verde")) -> Rojo | Q26: =IF(AND(Q$8>=$L26,Q$8<=$M26),$GU26,"") | R26: =IF(AND(R$8>=$L26,R$8<=$M26),$GU26,"") | S26: =IF(AND(S$8>=$L26,S$8<=$M26),$GU26,"") | T26: =IF(AND(T$8>=$L26,T$8<=$M26),$GU26,"") | U26: =IF(AND(U$8>=$L26,U$8<=$M26),$GU26,"") | V26: =IF(AND(V$8>=$L26,V$8<=$M26),$GU26,"") | W26: =IF(AND(W$8>=$L26,W$8<=$M26),$GU26,"") | X26: =IF(AND(X$8>=$L26,X$8<=$M26),$GU26,"") | ... GR26: =IF(AND(GR$8>=$L26,GR$8<=$M26),$GU26,"") | GT26: =VLOOKUP($F$22,estandaresniveles,3,0) -> 0.33 | GU26: =IF(GT26<50%,"Rojo",IF(AND(GT26>=50%,GT26<=80%),"Amarillo","Verde")) -> Rojo
B28: Componente 04 | D28: Situación Encontrada 03 | F28: =IFERROR(VLOOKUP($D$28,_xlnm.Criteria,2,0),0) -> 0 | H28: =+IF((F28=1),Criterios!C4,IF((F28=2),Criterios!C5,IF((F28=3),Criterios!C6,IF((F28=4),Criterios!C7,IF((F28=5),Criterios!C8,IF((F28=6),Criterios!C9,IF((F28=7),Criterios!C10,IF((F28=8),Criterios!C11,IF((F28=9),Criterios!C12,IF((F28=10),Criterios!C13,"-")))))))))) -> - | J28: =VLOOKUP($F$28,estandaresniveles,2,0) -> 1.- Tareas a | L28: 43718 | M28: =L28+N28-1 -> 43736 | N28: 19 | O28: =IF(GT28<50%,"Rojo",IF(AND(GT28>=50%,GT28<=80%),"Amarillo","Verde")) -> Rojo | Q28: =IF(AND(Q$8>=$L28,Q$8<=$M28),$GU28,"") | R28: =IF(AND(R$8>=$L28,R$8<=$M28),$GU28,"") | S28: =IF(AND(S$8>=$L28,S$8<=$M28),$GU28,"") | T28: =IF(AND(T$8>=$L28,T$8<=$M28),$GU28,"") | U28: =IF(AND(U$8>=$L28,U$8<=$M28),$GU28,"") | V28: =IF(AND(V$8>=$L28,V$8<=$M28),$GU28,"") | W28: =IF(AND(W$8>=$L28,W$8<=$M28),$GU28,"") | X28: =IF(AND(X$8>=$L28,X$8<=$M28),$GU28,"") | ... GR28: =IF(AND(GR$8>=$L28,GR$8<=$M28),$GU28,"") | GT28: =VLOOKUP($F$28,estandaresniveles,3,0) -> 0.33 | GU28: =IF(GT28<50%,"Rojo",IF(AND(GT28>=50%,GT28<=80%),"Amarillo","Verde")) -> Rojo
J30: =VLOOKUP($F$28,estandaresniveles,2,0) -> 1.- Tareas a | L30: 43655 | M30: =L30+N30-1 -> 43739 | N30: 85 | O30: =IF(GT30<50%,"Rojo",IF(AND(GT30>=50%,GT30<=80%),"Amarillo","Verde")) -> Rojo | Q30: =IF(AND(Q$8>=$L30,Q$8<=$M30),$GU30,"") | R30: =IF(AND(R$8>=$L30,R$8<=$M30),$GU30,"") | S30: =IF(AND(S$8>=$L30,S$8<=$M30),$GU30,"") | T30: =IF(AND(T$8>=$L30,T$8<=$M30),$GU30,"") | U30: =IF(AND(U$8>=$L30,U$8<=$M30),$GU30,"") | V30: =IF(AND(V$8>=$L30,V$8<=$M30),$GU30,"") | W30: =IF(AND(W$8>=$L30,W$8<=$M30),$GU30,"") | X30: =IF(AND(X$8>=$L30,X$8<=$M30),$GU30,"") | ... GR30: =IF(AND(GR$8>=$L30,GR$8<=$M30),$GU30,"") | GT30: =VLOOKUP($F$28,estandaresniveles,3,0) -> 0.33 | GU30: =IF(GT30<50%,"Rojo",IF(AND(GT30>=50%,GT30<=80%),"Amarillo","Verde")) -> Rojo
J32: =VLOOKUP($F$28,estandaresniveles,2,0) -> 1.- Tareas a | L32: 43671 | M32: =L32+N32-1 -> 43765 | N32: 95 | O32: =IF(GT32<50%,"Rojo",IF(AND(GT32>=50%,GT32<=80%),"Amarillo","Verde")) -> Rojo | Q32: =IF(AND(Q$8>=$L32,Q$8<=$M32),$GU32,"") | R32: =IF(AND(R$8>=$L32,R$8<=$M32),$GU32,"") | S32: =IF(AND(S$8>=$L32,S$8<=$M32),$GU32,"") | T32: =IF(AND(T$8>=$L32,T$8<=$M32),$GU32,"") | U32: =IF(AND(U$8>=$L32,U$8<=$M32),$GU32,"") | V32: =IF(AND(V$8>=$L32,V$8<=$M32),$GU32,"") | W32: =IF(AND(W$8>=$L32,W$8<=$M32),$GU32,"") | X32: =IF(AND(X$8>=$L32,X$8<=$M32),$GU32,"") | ... GR32: =IF(AND(GR$8>=$L32,GR$8<=$M32),$GU32,"") | GT32: =VLOOKUP($F$28,estandaresniveles,3,0) -> 0.33 | GU32: =IF(GT32<50%,"Rojo",IF(AND(GT32>=50%,GT32<=80%),"Amarillo","Verde")) -> Rojo
B34: Componente 05 | D34: Situación Encontrada 05 | F34: =IFERROR(VLOOKUP($D$34,_xlnm.Criteria,2,0),0) -> 0 | H34: =+IF((F34=1),Criterios!C4,IF((F34=2),Criterios!C5,IF((F34=3),Criterios!C6,IF((F34=4),Criterios!C7,IF((F34=5),Criterios!C8,IF((F34=6),Criterios!C9,IF((F34=7),Criterios!C10,IF((F34=8),Criterios!C11,IF((F34=9),Criterios!C12,IF((F34=10),Criterios!C13,"-")))))))))) -> - | J34: =VLOOKUP($F$34,estandaresniveles,2,0) -> 1.- Tareas a | L34: 43649 | M34: =L34+N34-1 -> 43804 | N34: 156 | O34: =IF(GT34<50%,"Rojo",IF(AND(GT34>=50%,GT34<=80%),"Amarillo","Verde")) -> Rojo | Q34: =IF(AND(Q$8>=$L34,Q$8<=$M34),$GU34,"") | R34: =IF(AND(R$8>=$L34,R$8<=$M34),$GU34,"") | S34: =IF(AND(S$8>=$L34,S$8<=$M34),$GU34,"") -> Rojo | T34: =IF(AND(T$8>=$L34,T$8<=$M34),$GU34,"") -> Rojo | U34: =IF(AND(U$8>=$L34,U$8<=$M34),$GU34,"") -> Rojo | V34: =IF(AND(V$8>=$L34,V$8<=$M34),$GU34,"") -> Rojo | W34: =IF(AND(W$8>=$L34,W$8<=$M34),$GU34,"") -> Rojo | X34: =IF(AND(X$8>=$L34,X$8<=$M34),$GU34,"") -> Rojo | ... GR34: =IF(AND(GR$8>=$L34,GR$8<=$M34),$GU34,"") | GT34: =VLOOKUP($F$34,estandaresniveles,3,0) -> 0.33 | GU34: =IF(GT34<50%,"Rojo",IF(AND(GT34>=50%,GT34<=80%),"Amarillo","Verde")) -> Rojo
J36: =VLOOKUP($F$34,estandaresniveles,2,0) -> 1.- Tareas a | L36: 43718 | M36: =L36+N36-1 -> 43801 | N36: 84 | O36: =IF(GT36<50%,"Rojo",IF(AND(GT36>=50%,GT36<=80%),"Amarillo","Verde")) -> Rojo | Q36: =IF(AND(Q$8>=$L36,Q$8<=$M36),$GU36,"") | R36: =IF(AND(R$8>=$L36,R$8<=$M36),$GU36,"") | S36: =IF(AND(S$8>=$L36,S$8<=$M36),$GU36,"") | T36: =IF(AND(T$8>=$L36,T$8<=$M36),$GU36,"") | U36: =IF(AND(U$8>=$L36,U$8<=$M36),$GU36,"") | V36: =IF(AND(V$8>=$L36,V$8<=$M36),$GU36,"") | W36: =IF(AND(W$8>=$L36,W$8<=$M36),$GU36,"") | X36: =IF(AND(X$8>=$L36,X$8<=$M36),$GU36,"") | ... GR36: =IF(AND(GR$8>=$L36,GR$8<=$M36),$GU36,"") | GT36: =VLOOKUP($F$34,estandaresniveles,3,0) -> 0.33 | GU36: =IF(GT36<50%,"Rojo",IF(AND(GT36>=50%,GT36<=80%),"Amarillo","Verde")) -> Rojo
J38: =VLOOKUP($F$34,estandaresniveles,2,0) -> 1.- Tareas a | L38: 43665 | M38: =L38+N38-1 -> 43793 | N38: 129 | O38: =IF(GT38<50%,"Rojo",IF(AND(GT38>=50%,GT38<=80%),"Amarillo","Verde")) -> Rojo | Q38: =IF(AND(Q$8>=$L38,Q$8<=$M38),$GU38,"") | R38: =IF(AND(R$8>=$L38,R$8<=$M38),$GU38,"") | S38: =IF(AND(S$8>=$L38,S$8<=$M38),$GU38,"") | T38: =IF(AND(T$8>=$L38,T$8<=$M38),$GU38,"") | U38: =IF(AND(U$8>=$L38,U$8<=$M38),$GU38,"") | V38: =IF(AND(V$8>=$L38,V$8<=$M38),$GU38,"") | W38: =IF(AND(W$8>=$L38,W$8<=$M38),$GU38,"") | X38: =IF(AND(X$8>=$L38,X$8<=$M38),$GU38,"") | ... GR38: =IF(AND(GR$8>=$L38,GR$8<=$M38),$GU38,"") | GT38: =VLOOKUP($F$34,estandaresniveles,3,0) -> 0.33 | GU38: =IF(GT38<50%,"Rojo",IF(AND(GT38>=50%,GT38<=80%),"Amarillo","Verde")) -> Rojo

Sheet Hoja3
A2: Valor | B2: Acción Priorizadas | C2: Alcance
A5: 0 | B5: 1.- Tareas a | C5: 0.33
A6: 1 | B6: 1.- Tarea 1 | C6: 0.45
A7: 2 | B7: 1.- Tarea a | C7: 0.27
A8: 3 | B8: 1.- Tarea 1 | C8: 0.16
A9: 4 | B9: 1.- Tarea a | C9: 0.15
A10: 5 | B10: 1.- Tarea 1 | C10: 0.55
A11: 6 | B11: 1.- Tarea a | C11: 0.71
A12: 7 | B12: 1.- Tarea 1 | C12: 0.66
A13: 8 | B13: 1.- Tarea 1 | C13: 0.51
A14: 9 | B14: 1.- Tarea a | C14: 0.9
A15: 10 | B15: Estandar Cumplido | C15: 0.85

Sheet Hoja1
A3: Categoria | B3: Porcentaje
A4: Rojo | B4: 0.3
A5: Amarillo | B5: 0.3
A6: Verde | B6: 0.3
A7: Blanco | B7: 0.6
A10: V1 | B10: ='Estandares Modelo'!GT10 -> 0.33 | C10: 0.04 | D10: =175%-SUM(B10:C10) -> 1.38
A11: MC1 | B11: ='Estandares Modelo'!GT12 -> 0.33 | C11: =1-B11 -> 0.67 | D11: 1
A12: V1 | B12: ='Estandares Modelo'!GT14 -> 0.33 | C12: 0.04 | D12: =2.05-SUM(B12:C12) -> 1.68
A14: V2 | B14: ='Estandares Modelo'!GT16 -> 0.33 | C14: 0.04 | D14: =175%-SUM(B14:C14) -> 1.38
A15: MC2 | B15: ='Estandares Modelo'!GT18 -> 0.33 | C15: =1-B15 -> 0.67 | D15: 1
A16: V2 | B16: ='Estandares Modelo'!GT20 -> 0.33 | C16: 0.04 | D16: =2.05-SUM(B16:C16) -> 1.68
A18: V3 | B18: ='Estandares Modelo'!$GT$22 -> 0.33 | C18: 0.04 | D18: =175%-SUM(B18:C18) -> 1.38
A19: MC3 | B19: ='Estandares Modelo'!$GT$24 -> 0.33 | C19: =1-B19 -> 0.67 | D19: 1
A20: V3 | B20: ='Estandares Modelo'!$GT$26 -> 0.33 | C20: 0.04 | D20: =2.05-SUM(B20:C20) -> 1.68
A22: V4 | B22: ='Estandares Modelo'!GT28 -> 0.33 | C22: 0.04 | D22: =175%-SUM(B22:C22) -> 1.38
A23: MC4 | B23: ='Estandares Modelo'!GT30 -> 0.33 | C23: =1-B23 -> 0.67 | D23: 1
A24: V4 | B24: ='Estandares Modelo'!GT32 -> 0.33 | C24: 0.04 | D24: =2.05-SUM(B24:C24) -> 1.68
A26: V4 | B26: ='Estandares Modelo'!GT34 -> 0.33 | C26: 0.04 | D26: =175%-SUM(B26:C26) -> 1.38
A27: MC4 | B27: ='Estandares Modelo'!GT36 -> 0.33 | C27: =1-B27 -> 0.67 | D27: 1
A28: V4 | B28: ='Estandares Modelo'!GT38 -> 0.33 | C28: 0.04 | D28: =2.05-SUM(B28:C28) -> 1.68
